BEGIN:VCALENDAR
VERSION:2.0
PRODID:-//Plone.org//NONSGML plone.app.event//EN
X-WR-TIMEZONE:US/Eastern
BEGIN:VEVENT
SUMMARY:Library Closed
DTSTART;VALUE=DATE:20261126
DTEND;VALUE=DATE:20261129
DTSTAMP:20260421T124922Z
UID:f2bcb304e82d4143982326319176ca2a@saas_stack_varnish:6080
CREATED:20250527T024212Z
DESCRIPTION:For the Thanksgiving holiday.
LAST-MODIFIED:20260224T200624Z
URL:https://www.uticalibrary.com/library-calendar/copy20_of_library-closed
 -6
END:VEVENT
END:VCALENDAR
