BEGIN:VCALENDAR
VERSION:2.0
PRODID:-//Plone.org//NONSGML plone.app.event//EN
X-WR-TIMEZONE:US/Eastern
BEGIN:VEVENT
SUMMARY:Library Closed
DTSTART;VALUE=DATE:20260525
DTEND;VALUE=DATE:20260526
DTSTAMP:20260421T114552Z
UID:3c6a836b069b46828446d33be57efa70@saas_stack_varnish:6080
CREATED:20250527T024212Z
LAST-MODIFIED:20260224T200251Z
URL:https://www.uticalibrary.com/library-calendar/copy21_of_library-closed
 -6
END:VEVENT
END:VCALENDAR
