BEGIN:VCALENDAR
VERSION:2.0
PRODID:-//Plone.org//NONSGML plone.app.event//EN
X-WR-TIMEZONE:US/Eastern
BEGIN:VEVENT
SUMMARY:Take & Make Craft: Rainbow Fish
DTSTART;VALUE=DATE:20250505
DTEND;VALUE=DATE:20250506
DTSTAMP:20260421T093721Z
UID:4aed6f439a3a43558581ef81baff8c30@saas_stack_varnish:6080
CREATED:20241231T030348Z
DESCRIPTION:First day to pick up this take home craft
LAST-MODIFIED:20250308T183937Z
URL:https://www.uticalibrary.com/library-calendar/copy2_of_take-make-craft
 -beaded-heart-decoration-craft
END:VEVENT
END:VCALENDAR
