BEGIN:VCALENDAR
VERSION:2.0
PRODID:-//Plone.org//NONSGML plone.app.event//EN
X-WR-TIMEZONE:US/Eastern
BEGIN:VEVENT
SUMMARY:National Picture Book Reading Challenge
DTSTART;VALUE=DATE:20241101
DTEND;VALUE=DATE:20241102
DTSTAMP:20260419T131811Z
UID:a9a7669d7a7848edbe04549dd45eeca6@saas_stack_varnish:6080
CREATED:20240809T025009Z
DESCRIPTION:Start a reading challenge today\, runs until the 27th!
LAST-MODIFIED:20240916T024006Z
URL:https://www.uticalibrary.com/library-calendar/copy3_of_halloween-readi
 ng-bingo
END:VEVENT
END:VCALENDAR
