BEGIN:VCALENDAR
VERSION:2.0
PRODID:-//Plone.org//NONSGML plone.app.event//EN
X-WR-TIMEZONE:US/Eastern
BEGIN:VEVENT
SUMMARY:Help Build our Lego Tower
DTSTART;VALUE=DATE:20240909
DTEND;VALUE=DATE:20240910
DTSTAMP:20260419T132327Z
UID:b7b08a774bd9480bb9e0e4ab132341b4@saas_stack_varnish:6080
CREATED:20240809T023857Z
DESCRIPTION:Check out books\, get Lego bricks to use.
LAST-MODIFIED:20240916T024107Z
URL:https://www.uticalibrary.com/library-calendar/copy_of_help-build-our-l
 ego-tower
END:VEVENT
END:VCALENDAR
