BEGIN:VCALENDAR
VERSION:2.0
PRODID:-//Plone.org//NONSGML plone.app.event//EN
X-WR-TIMEZONE:US/Eastern
BEGIN:VEVENT
SUMMARY:Library Closed
DTSTART;VALUE=DATE:20261231
DTEND;VALUE=DATE:20270101
DTSTAMP:20260419T130150Z
UID:a62b56fae3bb45a69250c0e9182a1e1e@saas_stack_varnish:6080
CREATED:20250527T024212Z
LAST-MODIFIED:20260224T200745Z
URL:https://www.uticalibrary.com/library-calendar/library-closed-6
END:VEVENT
END:VCALENDAR
