BEGIN:VCALENDAR
VERSION:2.0
PRODID:-//Plone.org//NONSGML plone.app.event//EN
X-WR-TIMEZONE:US/Eastern
BEGIN:VEVENT
SUMMARY:Book Discussion - Busy Body
DTSTART;TZID=US/Eastern:20181207T110000
DTEND;TZID=US/Eastern:20181207T120000
DTSTAMP:20260421T144105Z
UID:1b739124be84401195d9f9525c4142a3@saas_stack_varnish:6080
CREATED:20171004T004254Z
LAST-MODIFIED:20180528T001023Z
LOCATION:Utica Public Library
URL:https://www.uticalibrary.com/news-events/lib-cal/copy5_of_book-discuss
 ion-man-with-a-load-of-mischief
END:VEVENT
BEGIN:VTIMEZONE
TZID:US/Eastern
X-LIC-LOCATION:US/Eastern
BEGIN:STANDARD
DTSTART:20181104T010000
TZNAME:EST
TZOFFSETFROM:-0400
TZOFFSETTO:-0500
END:STANDARD
END:VTIMEZONE
END:VCALENDAR
