BEGIN:VCALENDAR
VERSION:2.0
PRODID:-//Plone.org//NONSGML plone.app.event//EN
X-WR-TIMEZONE:US/Eastern
BEGIN:VEVENT
SUMMARY:Library Closed for Thanksgiving
DTSTART;VALUE=DATE:20181122
DTEND;VALUE=DATE:20181125
DTSTAMP:20260419T163438Z
UID:a8cd8aa138b94154b9f7a7bf136162be@saas_stack_varnish:6080
CATEGORIES:Holiday
CREATED:20171109T022005Z
DESCRIPTION:The Utica Library is closed. Online resource such as Overdrive
  and Tutor.com are still available!
LAST-MODIFIED:20180526T203306Z
URL:https://www.uticalibrary.com/news-events/lib-cal/copy8_of_library-clos
 ed-1
END:VEVENT
END:VCALENDAR
